BEGIN:VCALENDAR
PRODID:-//eluceo/ical//2.0/EN
VERSION:2.0
CALSCALE:GREGORIAN
BEGIN:VEVENT
UID:ff27b9321e80eb7ea54548e21bc2d159
DTSTAMP:20260423T182916Z
SUMMARY:Neděle
DTSTART;TZID=Europe/Prague:20260504T201500
DTEND;TZID=Europe/Prague:20260504T221000
LOCATION:Kino Světozor
END:VEVENT
END:VCALENDAR
BEGIN:VCALENDAR
PRODID:-//eluceo/ical//2.0/EN
VERSION:2.0
CALSCALE:GREGORIAN
BEGIN:VEVENT
UID:3dd792dee03795365d7d08a3e054ad27
DTSTAMP:20260423T182916Z
SUMMARY:Neděle
DTSTART;TZID=Europe/Prague:20260504T201500
DTEND;TZID=Europe/Prague:20260504T221000
LOCATION:Kino Světozor
END:VEVENT
END:VCALENDAR
