BEGIN:VCALENDAR
PRODID:-//eluceo/ical//2.0/EN
VERSION:2.0
CALSCALE:GREGORIAN
BEGIN:VEVENT
UID:217749a76e375d1cd51f99100109f733
DTSTAMP:20260420T025014Z
SUMMARY:Otec Matka Sestra Bratr
DTSTART;TZID=Europe/Prague:20260507T133000
DTEND;TZID=Europe/Prague:20260507T152000
LOCATION:Kino Aero
END:VEVENT
END:VCALENDAR
BEGIN:VCALENDAR
PRODID:-//eluceo/ical//2.0/EN
VERSION:2.0
CALSCALE:GREGORIAN
BEGIN:VEVENT
UID:512c1f9280e074fafb971bc358e24f8b
DTSTAMP:20260420T025014Z
SUMMARY:Otec Matka Sestra Bratr
DTSTART;TZID=Europe/Prague:20260507T133000
DTEND;TZID=Europe/Prague:20260507T152000
LOCATION:Kino Aero
END:VEVENT
END:VCALENDAR
