BEGIN:VCALENDAR
PRODID:-//eluceo/ical//2.0/EN
VERSION:2.0
CALSCALE:GREGORIAN
BEGIN:VEVENT
UID:f03fb224f1d0aba6465f467e535dbdb8
DTSTAMP:20260420T025105Z
SUMMARY:Otec Matka Sestra Bratr
DTSTART;TZID=Europe/Prague:20260428T150000
DTEND;TZID=Europe/Prague:20260428T165000
LOCATION:Kino Světozor
END:VEVENT
END:VCALENDAR
BEGIN:VCALENDAR
PRODID:-//eluceo/ical//2.0/EN
VERSION:2.0
CALSCALE:GREGORIAN
BEGIN:VEVENT
UID:aebdf79c93a2f56976905f04f3582b19
DTSTAMP:20260420T025105Z
SUMMARY:Otec Matka Sestra Bratr
DTSTART;TZID=Europe/Prague:20260428T150000
DTEND;TZID=Europe/Prague:20260428T165000
LOCATION:Kino Světozor
END:VEVENT
END:VCALENDAR
