BEGIN:VCALENDAR
PRODID:-//eluceo/ical//2.0/EN
VERSION:2.0
CALSCALE:GREGORIAN
BEGIN:VEVENT
UID:f5bb88eac487fa3b43f2216933dc3e5b
DTSTAMP:20260420T024938Z
SUMMARY:Otec Matka Sestra Bratr
DTSTART;TZID=Europe/Prague:20260426T114500
DTEND;TZID=Europe/Prague:20260426T133500
LOCATION:Kino Světozor
END:VEVENT
END:VCALENDAR
BEGIN:VCALENDAR
PRODID:-//eluceo/ical//2.0/EN
VERSION:2.0
CALSCALE:GREGORIAN
BEGIN:VEVENT
UID:6b6dea67a563b0b561e59044a9e85f8d
DTSTAMP:20260420T024938Z
SUMMARY:Otec Matka Sestra Bratr
DTSTART;TZID=Europe/Prague:20260426T114500
DTEND;TZID=Europe/Prague:20260426T133500
LOCATION:Kino Světozor
END:VEVENT
END:VCALENDAR
