BEGIN:VCALENDAR
PRODID:-//eluceo/ical//2.0/EN
VERSION:2.0
CALSCALE:GREGORIAN
BEGIN:VEVENT
UID:225fdffa94d35204d15f0aef153cf676
DTSTAMP:20260421T000030Z
SUMMARY:2000 metrů do Andrijivky
DTSTART;TZID=Europe/Prague:20260428T203000
DTEND;TZID=Europe/Prague:20260428T221800
LOCATION:Kino Světozor
END:VEVENT
END:VCALENDAR
BEGIN:VCALENDAR
PRODID:-//eluceo/ical//2.0/EN
VERSION:2.0
CALSCALE:GREGORIAN
BEGIN:VEVENT
UID:e0a871d67c8d2ecdffc386b672b038ca
DTSTAMP:20260421T000030Z
SUMMARY:2000 metrů do Andrijivky
DTSTART;TZID=Europe/Prague:20260428T203000
DTEND;TZID=Europe/Prague:20260428T221800
LOCATION:Kino Světozor
END:VEVENT
END:VCALENDAR
