BEGIN:VCALENDAR
PRODID:-//eluceo/ical//2.0/EN
VERSION:2.0
CALSCALE:GREGORIAN
BEGIN:VEVENT
UID:eb1c0f9ea45284f624033069c1a92c22
DTSTAMP:20260421T000025Z
SUMMARY:2000 metrů do Andrijivky
DTSTART;TZID=Europe/Prague:20260426T121500
DTEND;TZID=Europe/Prague:20260426T140300
LOCATION:Bio Oko
END:VEVENT
END:VCALENDAR
BEGIN:VCALENDAR
PRODID:-//eluceo/ical//2.0/EN
VERSION:2.0
CALSCALE:GREGORIAN
BEGIN:VEVENT
UID:f838b2b30b02470b377837e4a40fd731
DTSTAMP:20260421T000025Z
SUMMARY:2000 metrů do Andrijivky
DTSTART;TZID=Europe/Prague:20260426T121500
DTEND;TZID=Europe/Prague:20260426T140300
LOCATION:Bio Oko
END:VEVENT
END:VCALENDAR
