BEGIN:VCALENDAR
PRODID:-//eluceo/ical//2.0/EN
VERSION:2.0
CALSCALE:GREGORIAN
BEGIN:VEVENT
UID:fcd899944dcb5c45bcdf67059c81ff33
DTSTAMP:20260420T005618Z
SUMMARY:Milost
DTSTART;TZID=Europe/Prague:20260425T130000
DTEND;TZID=Europe/Prague:20260425T151100
LOCATION:Kino Lucerna
END:VEVENT
END:VCALENDAR
BEGIN:VCALENDAR
PRODID:-//eluceo/ical//2.0/EN
VERSION:2.0
CALSCALE:GREGORIAN
BEGIN:VEVENT
UID:f9e060fe9a6ed86af8bee1b24bf799ed
DTSTAMP:20260420T005618Z
SUMMARY:Milost
DTSTART;TZID=Europe/Prague:20260425T130000
DTEND;TZID=Europe/Prague:20260425T151100
LOCATION:Kino Lucerna
END:VEVENT
END:VCALENDAR
