BEGIN:VCALENDAR
PRODID:-//eluceo/ical//2.0/EN
VERSION:2.0
CALSCALE:GREGORIAN
BEGIN:VEVENT
UID:a20a892b04d79d2bf4d2e691153eb1f7
DTSTAMP:20260421T084224Z
SUMMARY:Od základu
DTSTART;TZID=Europe/Prague:20260313T140000
DTEND;TZID=Europe/Prague:20260313T153500
LOCATION:Bio Central
END:VEVENT
END:VCALENDAR
BEGIN:VCALENDAR
PRODID:-//eluceo/ical//2.0/EN
VERSION:2.0
CALSCALE:GREGORIAN
BEGIN:VEVENT
UID:ea104ef2305f422a3e3e5f14f575c6b0
DTSTAMP:20260421T084224Z
SUMMARY:Od základu
DTSTART;TZID=Europe/Prague:20260313T140000
DTEND;TZID=Europe/Prague:20260313T153500
LOCATION:Bio Central
END:VEVENT
END:VCALENDAR
