BEGIN:VCALENDAR
PRODID:-//eluceo/ical//2.0/EN
VERSION:2.0
CALSCALE:GREGORIAN
BEGIN:VEVENT
UID:a873439fb404c1d9cf7c211aca3d42fc
DTSTAMP:20260420T005510Z
SUMMARY:Hamnet
DTSTART;TZID=Europe/Prague:20260423T201500
DTEND;TZID=Europe/Prague:20260423T222000
LOCATION:Kino Světozor
END:VEVENT
END:VCALENDAR
BEGIN:VCALENDAR
PRODID:-//eluceo/ical//2.0/EN
VERSION:2.0
CALSCALE:GREGORIAN
BEGIN:VEVENT
UID:7021e8ece0ff272ac4e51d1a90874900
DTSTAMP:20260420T005510Z
SUMMARY:Hamnet
DTSTART;TZID=Europe/Prague:20260423T201500
DTEND;TZID=Europe/Prague:20260423T222000
LOCATION:Kino Světozor
END:VEVENT
END:VCALENDAR
