BEGIN:VCALENDAR
PRODID:-//eluceo/ical//2.0/EN
VERSION:2.0
CALSCALE:GREGORIAN
BEGIN:VEVENT
UID:79d1b8b3ae8261b9ba1b192bcde3f9b6
DTSTAMP:20260420T005031Z
SUMMARY:Hamnet
DTSTART;TZID=Europe/Prague:20260425T124500
DTEND;TZID=Europe/Prague:20260425T145000
LOCATION:Kino Lucerna
END:VEVENT
END:VCALENDAR
BEGIN:VCALENDAR
PRODID:-//eluceo/ical//2.0/EN
VERSION:2.0
CALSCALE:GREGORIAN
BEGIN:VEVENT
UID:00d48506bdca22a0a6d23bebfd581c99
DTSTAMP:20260420T005031Z
SUMMARY:Hamnet
DTSTART;TZID=Europe/Prague:20260425T124500
DTEND;TZID=Europe/Prague:20260425T145000
LOCATION:Kino Lucerna
END:VEVENT
END:VCALENDAR
