BEGIN:VCALENDAR
PRODID:-//eluceo/ical//2.0/EN
VERSION:2.0
CALSCALE:GREGORIAN
BEGIN:VEVENT
UID:18d6cee14f335b454e953eb5a007ccd9
DTSTAMP:20260420T005349Z
SUMMARY:Hamnet
DTSTART;TZID=Europe/Prague:20260501T150000
DTEND;TZID=Europe/Prague:20260501T170500
LOCATION:Kino Světozor
END:VEVENT
END:VCALENDAR
BEGIN:VCALENDAR
PRODID:-//eluceo/ical//2.0/EN
VERSION:2.0
CALSCALE:GREGORIAN
BEGIN:VEVENT
UID:35c6100f300f66ae84efb51faddad8aa
DTSTAMP:20260420T005349Z
SUMMARY:Hamnet
DTSTART;TZID=Europe/Prague:20260501T150000
DTEND;TZID=Europe/Prague:20260501T170500
LOCATION:Kino Světozor
END:VEVENT
END:VCALENDAR
