BEGIN:VCALENDAR
PRODID:-//eluceo/ical//2.0/EN
VERSION:2.0
CALSCALE:GREGORIAN
BEGIN:VEVENT
UID:3f948c83bd8ed117ff00478254bc8944
DTSTAMP:20260423T120700Z
SUMMARY:Ladislav Zibura - Naposledy pěšky po Arménii a Gruzii
DTSTART;TZID=Europe/Prague:20260513T174500
DTEND;TZID=Europe/Prague:20260513T194500
LOCATION:Kino Aero
END:VEVENT
END:VCALENDAR
BEGIN:VCALENDAR
PRODID:-//eluceo/ical//2.0/EN
VERSION:2.0
CALSCALE:GREGORIAN
BEGIN:VEVENT
UID:23acabb3d32e81e0d7afee3e4a1d9784
DTSTAMP:20260423T120700Z
SUMMARY:Ladislav Zibura - Naposledy pěšky po Arménii a Gruzii
DTSTART;TZID=Europe/Prague:20260513T174500
DTEND;TZID=Europe/Prague:20260513T194500
LOCATION:Kino Aero
END:VEVENT
END:VCALENDAR
