BEGIN:VCALENDAR
PRODID:-//eluceo/ical//2.0/EN
VERSION:2.0
CALSCALE:GREGORIAN
BEGIN:VEVENT
UID:7fc320aa0dc9326131d55c66cc872063
DTSTAMP:20260421T084017Z
SUMMARY:Kaprálová
DTSTART;TZID=Europe/Prague:20260323T130000
DTEND;TZID=Europe/Prague:20260323T141000
LOCATION:Kino Lucerna
END:VEVENT
END:VCALENDAR
BEGIN:VCALENDAR
PRODID:-//eluceo/ical//2.0/EN
VERSION:2.0
CALSCALE:GREGORIAN
BEGIN:VEVENT
UID:38d03db203c2299de2f148bc6971a89f
DTSTAMP:20260421T084017Z
SUMMARY:Kaprálová
DTSTART;TZID=Europe/Prague:20260323T130000
DTEND;TZID=Europe/Prague:20260323T141000
LOCATION:Kino Lucerna
END:VEVENT
END:VCALENDAR
